BEGIN:VCALENDAR
VERSION:2.0
PRODID:-//Anthony Spano Foundation - ECPv6.15.20//NONSGML v1.0//EN
CALSCALE:GREGORIAN
METHOD:PUBLISH
X-WR-CALNAME:Anthony Spano Foundation
X-ORIGINAL-URL:https://spanofoundation.com
X-WR-CALDESC:Events for Anthony Spano Foundation
REFRESH-INTERVAL;VALUE=DURATION:PT1H
X-Robots-Tag:noindex
X-PUBLISHED-TTL:PT1H
BEGIN:VTIMEZONE
TZID:UTC
BEGIN:STANDARD
TZOFFSETFROM:+0000
TZOFFSETTO:+0000
TZNAME:UTC
DTSTART:20220101T000000
END:STANDARD
END:VTIMEZONE
BEGIN:VEVENT
DTSTART;TZID=UTC:20241108T170000
DTEND;TZID=UTC:20241108T210000
DTSTAMP:20260422T032929
CREATED:20240706T183535Z
LAST-MODIFIED:20240802T203436Z
UID:3668-1731085200-1731099600@spanofoundation.com
SUMMARY:Purse Bingo w/Clothed in Strength
DESCRIPTION:In partnership with the Spano Foundation\, the Clothed in Strength Purse Bingo is this Fall. \nSave the date for our 2nd annual purse bingo! Heavy appetizers\, 50/50\, amazing purses\, and fun! Grab your girlfriends and get ready for a night of food\, fun and purses!!! \nFounded in 2022\, Clothed In Strength was created with a mission of bridging the gap between government assistance and financial freedom for low to moderate income single mothers. This is exactly where founder\, Heather Fronk\, found herself as a young mother at the age of 19. Working full time as well as working to complete her Bachelors at YSU\, she found herself in the middle of making too much income to qualify for financial and housing assistance\, however not making enough to fully make ends meet without working a second job. It is now her mission to help bridge this gap for single mothers who find themselves in this situation through 3 mission pillars of Clothed In Strength: 1. Hosting a free pop up boutique once a month with necessities such as clothes\, shoes\, work apparel and coats for the mothers and their children via donations from the community\, 2. Providing financial grants to single mothers for emergency situations and hardships and 3. To be a community resource center connecting single mothers to agencies in the community for additional assistance.
URL:https://spanofoundation.com/events/purse-bingo-w-clothed-in-strength/
CATEGORIES:Events
ATTACH;FMTTYPE=image/jpeg:https://spanofoundation.com/wp-content/uploads/2024/07/BINGO-Nov.-8-2024_Page_1-scaled-e1722630864755.jpg
ORGANIZER;CN="Spano Foundation":MAILTO:info@spanofoundation.com
END:VEVENT
BEGIN:VEVENT
DTSTART;VALUE=DATE:20230801
DTEND;VALUE=DATE:20240801
DTSTAMP:20260422T032929
CREATED:20200801T000043Z
LAST-MODIFIED:20230807T223613Z
UID:2551-1690848000-1722470399@spanofoundation.com
SUMMARY:Deadline for Nominations of the Presidents Volunteer Service Award
DESCRIPTION:The Spano Foundation is proud to announce that it is accepting nominations for the Presidential Volunteer Service Award (PVSA) in the Mahoning Valley. The Foundation is the certified organization to hand out this great award. \nThe Spano Foundation will be the presenting organization for the future of this award by teaming up with Brenda Rider\, who will continue to lead the charge.  Since 2010\, Ms. Rider has been presenting the Presidential Volunteer Service Award to Mahoning Valley volunteers and organizations. \nThe purpose for the Presidential Volunteer Service Award is to honor the hundreds of thousands of people across America that have volunteered hundreds\, if not thousands of volunteer hours over their lifetime. The program was established to honor the volunteer works of individuals\, families and organizations throughout the United States. Deadline is August 1. \nClick here to nominate someone now.
URL:https://spanofoundation.com/events/deadline-for-nominations-of-the-presidents-volunteer-service-award/
CATEGORIES:A Way with Words Fund,Board of Directors,President Volunteer Service Award
ORGANIZER;CN="Spano Foundation":MAILTO:info@spanofoundation.com
END:VEVENT
END:VCALENDAR